BEGIN:VCALENDAR
VERSION:2.0
PRODID:-//Grain and Grog - ECPv6.14.2//NONSGML v1.0//EN
CALSCALE:GREGORIAN
METHOD:PUBLISH
X-ORIGINAL-URL:https://grainandgrog.com
X-WR-CALDESC:Events for Grain and Grog
REFRESH-INTERVAL;VALUE=DURATION:PT1H
X-Robots-Tag:noindex
X-PUBLISHED-TTL:PT1H
BEGIN:VTIMEZONE
TZID:America/New_York
BEGIN:DAYLIGHT
TZOFFSETFROM:-0500
TZOFFSETTO:-0400
TZNAME:EDT
DTSTART:20250309T070000
END:DAYLIGHT
BEGIN:STANDARD
TZOFFSETFROM:-0400
TZOFFSETTO:-0500
TZNAME:EST
DTSTART:20251102T060000
END:STANDARD
END:VTIMEZONE
BEGIN:VEVENT
DTSTART;TZID=America/New_York:20250606T190000
DTEND;TZID=America/New_York:20250606T220000
DTSTAMP:20260421T085636
CREATED:20250402T152828Z
LAST-MODIFIED:20250402T152828Z
UID:377-1749236400-1749247200@grainandgrog.com
SUMMARY:Hilary Veltri
DESCRIPTION:Live music from Hilary Viltri
URL:https://grainandgrog.com/event/hilary-veltri/
LOCATION:Grain and Grog\, 7960 Crescent Park Drive\, Gainesville\, VA\, 20155\, United States
END:VEVENT
BEGIN:VEVENT
DTSTART;TZID=America/New_York:20250613T190000
DTEND;TZID=America/New_York:20250613T220000
DTSTAMP:20260421T085636
CREATED:20250402T153231Z
LAST-MODIFIED:20250402T153231Z
UID:382-1749841200-1749852000@grainandgrog.com
SUMMARY:Gabe Mathews
DESCRIPTION:Live music from Gabe Mathews
URL:https://grainandgrog.com/event/gabe-mathews-2/
LOCATION:Grain and Grog\, 7960 Crescent Park Drive\, Gainesville\, VA\, 20155\, United States
END:VEVENT
BEGIN:VEVENT
DTSTART;TZID=America/New_York:20250614T190000
DTEND;TZID=America/New_York:20250614T220000
DTSTAMP:20260421T085636
CREATED:20250402T153339Z
LAST-MODIFIED:20250402T153339Z
UID:384-1749927600-1749938400@grainandgrog.com
SUMMARY:Tejas Singh
DESCRIPTION:Live music from Tejas Singh
URL:https://grainandgrog.com/event/tejas-singh-3/
LOCATION:Grain and Grog\, 7960 Crescent Park Drive\, Gainesville\, VA\, 20155\, United States
END:VEVENT
BEGIN:VEVENT
DTSTART;TZID=America/New_York:20250620T190000
DTEND;TZID=America/New_York:20250620T220000
DTSTAMP:20260421T085636
CREATED:20250402T153606Z
LAST-MODIFIED:20250402T153606Z
UID:379-1750446000-1750456800@grainandgrog.com
SUMMARY:Torrey B.
DESCRIPTION:Live music from Torrey B.
URL:https://grainandgrog.com/event/torrey-b-3/
LOCATION:Grain and Grog\, 7960 Crescent Park Drive\, Gainesville\, VA\, 20155\, United States
END:VEVENT
BEGIN:VEVENT
DTSTART;TZID=America/New_York:20250621T190000
DTEND;TZID=America/New_York:20250621T220000
DTSTAMP:20260421T085636
CREATED:20250402T153739Z
LAST-MODIFIED:20250402T153739Z
UID:387-1750532400-1750543200@grainandgrog.com
SUMMARY:Brian Franke
DESCRIPTION:Live music from Brian Franke
URL:https://grainandgrog.com/event/brian-franke-2/
LOCATION:Grain and Grog\, 7960 Crescent Park Drive\, Gainesville\, VA\, 20155\, United States
END:VEVENT
BEGIN:VEVENT
DTSTART;TZID=America/New_York:20250627T190000
DTEND;TZID=America/New_York:20250627T220000
DTSTAMP:20260421T085636
CREATED:20250402T153839Z
LAST-MODIFIED:20250402T153839Z
UID:389-1751050800-1751061600@grainandgrog.com
SUMMARY:Brian Johnson
DESCRIPTION:Live music from Brian Johnson
URL:https://grainandgrog.com/event/brian-johnson-3/
LOCATION:Grain and Grog\, 7960 Crescent Park Drive\, Gainesville\, VA\, 20155\, United States
END:VEVENT
BEGIN:VEVENT
DTSTART;TZID=America/New_York:20250628T190000
DTEND;TZID=America/New_York:20250628T220000
DTSTAMP:20260421T085636
CREATED:20250402T153938Z
LAST-MODIFIED:20250405T141244Z
UID:391-1751137200-1751148000@grainandgrog.com
SUMMARY:Derek Evry
DESCRIPTION:Live music from Derek Evry
URL:https://grainandgrog.com/event/chris-hanks-4/
LOCATION:Grain and Grog\, 7960 Crescent Park Drive\, Gainesville\, VA\, 20155\, United States
END:VEVENT
END:VCALENDAR