BEGIN:VCALENDAR
VERSION:2.0
PRODID:-//Grain and Grog - ECPv6.14.2//NONSGML v1.0//EN
CALSCALE:GREGORIAN
METHOD:PUBLISH
X-ORIGINAL-URL:https://grainandgrog.com
X-WR-CALDESC:Events for Grain and Grog
REFRESH-INTERVAL;VALUE=DURATION:PT1H
X-Robots-Tag:noindex
X-PUBLISHED-TTL:PT1H
BEGIN:VTIMEZONE
TZID:America/New_York
BEGIN:DAYLIGHT
TZOFFSETFROM:-0500
TZOFFSETTO:-0400
TZNAME:EDT
DTSTART:20250309T070000
END:DAYLIGHT
BEGIN:STANDARD
TZOFFSETFROM:-0400
TZOFFSETTO:-0500
TZNAME:EST
DTSTART:20251102T060000
END:STANDARD
END:VTIMEZONE
BEGIN:VEVENT
DTSTART;TZID=America/New_York:20250705T190000
DTEND;TZID=America/New_York:20250705T220000
DTSTAMP:20260421T072233
CREATED:20250402T152926Z
LAST-MODIFIED:20250621T152443Z
UID:380-1751742000-1751752800@grainandgrog.com
SUMMARY:Eddie Pasa
DESCRIPTION:Live music from Eddie Pasa
URL:https://grainandgrog.com/event/eddie-pasa-3/
LOCATION:Grain and Grog\, 7960 Crescent Park Drive\, Gainesville\, VA\, 20155\, United States
END:VEVENT
BEGIN:VEVENT
DTSTART;TZID=America/New_York:20250711T190000
DTEND;TZID=America/New_York:20250711T220000
DTSTAMP:20260421T072233
CREATED:20250228T204244Z
LAST-MODIFIED:20250621T153128Z
UID:323-1752260400-1752271200@grainandgrog.com
SUMMARY:Mike Leverone
DESCRIPTION:Live music from Mike Leverone
URL:https://grainandgrog.com/event/mike-leverone/
LOCATION:Grain and Grog\, 7960 Crescent Park Drive\, Gainesville\, VA\, 20155\, United States
END:VEVENT
BEGIN:VEVENT
DTSTART;TZID=America/New_York:20250712T190000
DTEND;TZID=America/New_York:20250712T220000
DTSTAMP:20260421T072233
CREATED:20250228T201541Z
LAST-MODIFIED:20250621T153253Z
UID:316-1752346800-1752357600@grainandgrog.com
SUMMARY:Britton James
DESCRIPTION:Live music from Britton James
URL:https://grainandgrog.com/event/britton-james/
LOCATION:Grain and Grog\, 7960 Crescent Park Drive\, Gainesville\, VA\, 20155\, United States
END:VEVENT
BEGIN:VEVENT
DTSTART;TZID=America/New_York:20250718T190000
DTEND;TZID=America/New_York:20250718T220000
DTSTAMP:20260421T072233
CREATED:20250228T204753Z
LAST-MODIFIED:20250621T153359Z
UID:329-1752865200-1752876000@grainandgrog.com
SUMMARY:Tejas Singh
DESCRIPTION:Live music from Tejas Singh
URL:https://grainandgrog.com/event/tejas-singh/
LOCATION:Grain and Grog\, 7960 Crescent Park Drive\, Gainesville\, VA\, 20155\, United States
END:VEVENT
BEGIN:VEVENT
DTSTART;TZID=America/New_York:20250719T190000
DTEND;TZID=America/New_York:20250719T220000
DTSTAMP:20260421T072233
CREATED:20250228T205732Z
LAST-MODIFIED:20250621T153503Z
UID:339-1752951600-1752962400@grainandgrog.com
SUMMARY:Becci Clark
DESCRIPTION:Live music from Becci Clark
URL:https://grainandgrog.com/event/becci-clark/
LOCATION:Grain and Grog\, 7960 Crescent Park Drive\, Gainesville\, VA\, 20155\, United States
END:VEVENT
BEGIN:VEVENT
DTSTART;TZID=America/New_York:20250725T190000
DTEND;TZID=America/New_York:20250725T220000
DTSTAMP:20260421T072233
CREATED:20250621T153711Z
LAST-MODIFIED:20250621T153711Z
UID:469-1753470000-1753480800@grainandgrog.com
SUMMARY:Bruno Campos
DESCRIPTION:Live music from Bruno Campos
URL:https://grainandgrog.com/event/bruno-campos/
LOCATION:Grain and Grog\, 7960 Crescent Park Drive\, Gainesville\, VA\, 20155\, United States
END:VEVENT
BEGIN:VEVENT
DTSTART;TZID=America/New_York:20250726T190000
DTEND;TZID=America/New_York:20250726T220000
DTSTAMP:20260421T072233
CREATED:20250228T204526Z
LAST-MODIFIED:20250621T153854Z
UID:325-1753556400-1753567200@grainandgrog.com
SUMMARY:Chris Hanks
DESCRIPTION:Live music from Chris Hanks
URL:https://grainandgrog.com/event/chris-hanks/
LOCATION:Grain and Grog\, 7960 Crescent Park Drive\, Gainesville\, VA\, 20155\, United States
END:VEVENT
END:VCALENDAR